Package: arrayQuality Version: 1.84.0 Command: /Library/Frameworks/R.framework/Resources/bin/R CMD build --keep-empty-dirs --no-resave-data arrayQuality StartedAt: 2025-02-10 18:56:18 -0500 (Mon, 10 Feb 2025) EndedAt: 2025-02-10 18:56:33 -0500 (Mon, 10 Feb 2025) EllapsedTime: 15.0 seconds RetCode: 0 Status: OK PackageFile: arrayQuality_1.84.0.tar.gz PackageFileSize: 12.82 MiB