Package: arrayQuality Version: 1.84.0 Command: /Library/Frameworks/R.framework/Resources/bin/R CMD check --install=check:arrayQuality.install-out.txt --library=/Library/Frameworks/R.framework/Resources/library --no-vignettes --timings arrayQuality_1.84.0.tar.gz StartedAt: 2025-02-11 11:20:57 -0500 (Tue, 11 Feb 2025) EndedAt: 2025-02-11 11:21:41 -0500 (Tue, 11 Feb 2025) EllapsedTime: 43.7 seconds RetCode: 0 Status: WARNINGS CheckDir: arrayQuality.Rcheck Warnings: 1