Package: arrayQualityMetrics Version: 3.62.0 Command: rm -rf arrayQualityMetrics.buildbin-libdir && mkdir arrayQualityMetrics.buildbin-libdir && /Users/biocbuild/BBS/utils/build-universal.sh arrayQualityMetrics_3.62.0.tar.gz /Library/Frameworks/R.framework/Resources/bin/R arrayQualityMetrics.buildbin-libdir StartedAt: 2025-02-05 14:49:43 -0500 (Wed, 05 Feb 2025) EndedAt: 2025-02-05 14:50:15 -0500 (Wed, 05 Feb 2025) EllapsedTime: 31.7 seconds RetCode: 0 Status: OK PackageFile: arrayQualityMetrics_3.62.0.tgz PackageFileSize: 557.6 KiB