Package: arrayQualityMetrics Version: 3.62.0 Command: /Library/Frameworks/R.framework/Resources/bin/R CMD build --keep-empty-dirs --no-resave-data arrayQualityMetrics StartedAt: 2025-02-03 18:46:13 -0500 (Mon, 03 Feb 2025) EndedAt: 2025-02-03 18:54:57 -0500 (Mon, 03 Feb 2025) EllapsedTime: 524.1 seconds RetCode: 0 Status: OK PackageFile: arrayQualityMetrics_3.62.0.tar.gz PackageFileSize: 596.3 KiB