Package: arrayQualityMetrics Version: 3.62.0 Command: /Library/Frameworks/R.framework/Resources/bin/R CMD check --install=check:arrayQualityMetrics.install-out.txt --library=/Library/Frameworks/R.framework/Resources/library --no-vignettes --timings arrayQualityMetrics_3.62.0.tar.gz StartedAt: 2025-02-04 11:31:04 -0500 (Tue, 04 Feb 2025) EndedAt: 2025-02-04 11:33:43 -0500 (Tue, 04 Feb 2025) EllapsedTime: 159.0 seconds RetCode: 0 Status: OK CheckDir: arrayQualityMetrics.Rcheck Warnings: 0