Package: arrayQualityMetrics Version: 3.62.0 Command: /Library/Frameworks/R.framework/Resources/bin/R CMD build --keep-empty-dirs --no-resave-data arrayQualityMetrics StartedAt: 2025-02-03 17:05:30 -0500 (Mon, 03 Feb 2025) EndedAt: 2025-02-03 17:18:26 -0500 (Mon, 03 Feb 2025) EllapsedTime: 775.8 seconds RetCode: 0 Status: OK PackageFile: arrayQualityMetrics_3.62.0.tar.gz PackageFileSize: 596.4 KiB