Package: arrayQualityMetrics Version: 3.62.0 Command: /Library/Frameworks/R.framework/Resources/bin/R CMD INSTALL arrayQualityMetrics StartedAt: 2025-02-03 16:17:37 -0500 (Mon, 03 Feb 2025) EndedAt: 2025-02-03 16:18:29 -0500 (Mon, 03 Feb 2025) EllapsedTime: 52.2 seconds RetCode: 0 Status: OK