Package: arrayQualityMetrics Version: 3.62.0 Command: /home/biocbuild/bbs-3.20-bioc/R/bin/R CMD INSTALL arrayQualityMetrics StartedAt: 2025-02-03 15:50:32 -0500 (Mon, 03 Feb 2025) EndedAt: 2025-02-03 15:50:58 -0500 (Mon, 03 Feb 2025) EllapsedTime: 25.9 seconds RetCode: 0 Status: OK