Package: arrayQualityMetrics Version: 3.62.0 Command: F:\biocbuild\bbs-3.20-bioc\R\bin\R.exe CMD check --no-multiarch --install=check:arrayQualityMetrics.install-out.txt --library=F:\biocbuild\bbs-3.20-bioc\R\library --no-vignettes --timings arrayQualityMetrics_3.62.0.tar.gz StartedAt: 2025-02-03 23:11:02 -0500 (Mon, 03 Feb 2025) EndedAt: 2025-02-03 23:13:59 -0500 (Mon, 03 Feb 2025) EllapsedTime: 177.4 seconds RetCode: 0 Status: OK CheckDir: arrayQualityMetrics.Rcheck Warnings: 0