Package: arrayQualityMetrics Version: 3.62.0 Command: /home/biocbuild/R/R/bin/R CMD check --install=check:arrayQualityMetrics.install-out.txt --library=/home/biocbuild/R/R/site-library --no-vignettes --timings arrayQualityMetrics_3.62.0.tar.gz StartedAt: 2025-02-04 04:24:14 -0000 (Tue, 04 Feb 2025) EndedAt: 2025-02-04 04:28:09 -0000 (Tue, 04 Feb 2025) EllapsedTime: 234.6 seconds RetCode: 0 Status: OK CheckDir: arrayQualityMetrics.Rcheck Warnings: 0