Package: atena Version: 1.12.0 Command: /Library/Frameworks/R.framework/Resources/bin/R CMD build --keep-empty-dirs --no-resave-data atena StartedAt: 2025-01-30 19:02:54 -0500 (Thu, 30 Jan 2025) EndedAt: 2025-01-30 19:15:14 -0500 (Thu, 30 Jan 2025) EllapsedTime: 740.1 seconds RetCode: 0 Status: OK PackageFile: atena_1.12.0.tar.gz PackageFileSize: 1.282 MiB