Package: atena Version: 1.12.0 Command: /Library/Frameworks/R.framework/Resources/bin/R CMD build --keep-empty-dirs --no-resave-data atena StartedAt: 2025-01-30 17:11:38 -0500 (Thu, 30 Jan 2025) EndedAt: 2025-01-30 17:44:17 -0500 (Thu, 30 Jan 2025) EllapsedTime: 1958.2 seconds RetCode: 0 Status: OK PackageFile: atena_1.12.0.tar.gz PackageFileSize: 1.282 MiB