Package: atena Version: 1.12.0 Command: chmod a+r atena -R && F:\biocbuild\bbs-3.20-bioc\R\bin\R.exe CMD build --keep-empty-dirs --no-resave-data atena StartedAt: 2025-01-30 17:21:41 -0500 (Thu, 30 Jan 2025) EndedAt: 2025-01-30 17:37:44 -0500 (Thu, 30 Jan 2025) EllapsedTime: 963.2 seconds RetCode: 0 Status: OK PackageFile: atena_1.12.0.tar.gz PackageFileSize: 1.234 MiB