Package: atena Version: 1.12.0 Command: /home/biocbuild/R/R/bin/R CMD check --install=check:atena.install-out.txt --library=/home/biocbuild/R/R/site-library --no-vignettes --timings atena_1.12.0.tar.gz StartedAt: 2025-02-04 04:28:09 -0000 (Tue, 04 Feb 2025) EndedAt: 2025-02-04 04:38:38 -0000 (Tue, 04 Feb 2025) EllapsedTime: 629.3 seconds RetCode: 0 Status: OK CheckDir: atena.Rcheck Warnings: 0