Package: atena Version: 1.12.0 Command: /home/biocbuild/R/R/bin/R CMD INSTALL atena StartedAt: 2025-01-30 20:25:20 -0000 (Thu, 30 Jan 2025) EndedAt: 2025-01-30 20:26:11 -0000 (Thu, 30 Jan 2025) EllapsedTime: 50.9 seconds RetCode: 0 Status: OK