Package: attract Version: 1.58.0 Command: rm -rf attract.buildbin-libdir && mkdir attract.buildbin-libdir && /Users/biocbuild/BBS/utils/build-universal.sh attract_1.58.0.tar.gz /Library/Frameworks/R.framework/Resources/bin/R attract.buildbin-libdir StartedAt: 2025-02-05 14:51:15 -0500 (Wed, 05 Feb 2025) EndedAt: 2025-02-05 14:51:44 -0500 (Wed, 05 Feb 2025) EllapsedTime: 29.2 seconds RetCode: 0 Status: OK PackageFile: attract_1.58.0.tgz PackageFileSize: 4.363 MiB