Package: attract Version: 1.58.0 Command: /Library/Frameworks/R.framework/Resources/bin/R CMD INSTALL attract StartedAt: 2025-02-10 17:19:37 -0500 (Mon, 10 Feb 2025) EndedAt: 2025-02-10 17:20:05 -0500 (Mon, 10 Feb 2025) EllapsedTime: 27.3 seconds RetCode: 0 Status: OK