Package: attract Version: 1.58.0 Command: rm -rf attract.buildbin-libdir && mkdir attract.buildbin-libdir && /Users/biocbuild/BBS/utils/build-universal.sh attract_1.58.0.tar.gz /Library/Frameworks/R.framework/Resources/bin/R attract.buildbin-libdir StartedAt: 2025-02-04 12:28:51 -0500 (Tue, 04 Feb 2025) EndedAt: 2025-02-04 12:29:43 -0500 (Tue, 04 Feb 2025) EllapsedTime: 52.0 seconds RetCode: 0 Status: OK PackageFile: attract_1.58.0.tgz PackageFileSize: 4.363 MiB