Package: attract Version: 1.58.0 Command: /Library/Frameworks/R.framework/Resources/bin/R CMD build --keep-empty-dirs --no-resave-data attract StartedAt: 2025-02-03 17:08:10 -0500 (Mon, 03 Feb 2025) EndedAt: 2025-02-03 17:13:19 -0500 (Mon, 03 Feb 2025) EllapsedTime: 309.6 seconds RetCode: 0 Status: OK PackageFile: attract_1.58.0.tar.gz PackageFileSize: 4.294 MiB