Package: attract Version: 1.58.0 Command: chmod a+r attract -R && F:\biocbuild\bbs-3.20-bioc\R\bin\R.exe CMD build --keep-empty-dirs --no-resave-data attract StartedAt: 2025-02-10 17:27:24 -0500 (Mon, 10 Feb 2025) EndedAt: 2025-02-10 17:30:14 -0500 (Mon, 10 Feb 2025) EllapsedTime: 169.9 seconds RetCode: 0 Status: OK PackageFile: attract_1.58.0.tar.gz PackageFileSize: 4.207 MiB