Package: attract Version: 1.58.0 Command: /home/biocbuild/R/R/bin/R CMD build --keep-empty-dirs --no-resave-data attract StartedAt: 2025-02-03 21:42:00 -0000 (Mon, 03 Feb 2025) EndedAt: 2025-02-03 21:45:08 -0000 (Mon, 03 Feb 2025) EllapsedTime: 188.1 seconds RetCode: 0 Status: OK PackageFile: attract_1.58.0.tar.gz PackageFileSize: 4.291 MiB