Package: autonomics Version: 1.14.8 Command: /Library/Frameworks/R.framework/Resources/bin/R CMD build --keep-empty-dirs --no-resave-data autonomics StartedAt: 2025-02-10 17:01:11 -0500 (Mon, 10 Feb 2025) EndedAt: 2025-02-10 17:06:35 -0500 (Mon, 10 Feb 2025) EllapsedTime: 323.4 seconds RetCode: 0 Status: OK PackageFile: autonomics_1.14.8.tar.gz PackageFileSize: 2.519 MiB