Package: autonomics Version: 1.14.8 Command: /Library/Frameworks/R.framework/Resources/bin/R CMD INSTALL autonomics StartedAt: 2025-02-03 15:36:40 -0500 (Mon, 03 Feb 2025) EndedAt: 2025-02-03 15:38:04 -0500 (Mon, 03 Feb 2025) EllapsedTime: 84.6 seconds RetCode: 0 Status: OK