Package: autonomics Version: 1.14.8 Command: /home/biocbuild/R/R/bin/R CMD build --keep-empty-dirs --no-resave-data autonomics StartedAt: 2025-02-03 21:43:12 -0000 (Mon, 03 Feb 2025) EndedAt: 2025-02-03 21:46:13 -0000 (Mon, 03 Feb 2025) EllapsedTime: 181.1 seconds RetCode: 0 Status: OK PackageFile: autonomics_1.14.8.tar.gz PackageFileSize: 1.301 MiB