Package: awst Version: 1.14.0 Command: rm -rf awst.buildbin-libdir && mkdir awst.buildbin-libdir && /Users/biocbuild/BBS/utils/build-universal.sh awst_1.14.0.tar.gz /Library/Frameworks/R.framework/Resources/bin/R awst.buildbin-libdir StartedAt: 2025-02-04 12:29:08 -0500 (Tue, 04 Feb 2025) EndedAt: 2025-02-04 12:29:52 -0500 (Tue, 04 Feb 2025) EllapsedTime: 43.6 seconds RetCode: 0 Status: OK PackageFile: awst_1.14.0.tgz PackageFileSize: 464.5 KiB