Package: awst Version: 1.14.0 Command: /Library/Frameworks/R.framework/Resources/bin/R CMD build --keep-empty-dirs --no-resave-data awst StartedAt: 2025-02-03 17:09:00 -0500 (Mon, 03 Feb 2025) EndedAt: 2025-02-03 17:10:38 -0500 (Mon, 03 Feb 2025) EllapsedTime: 98.1 seconds RetCode: 0 Status: OK PackageFile: awst_1.14.0.tar.gz PackageFileSize: 445.7 KiB