Package: awst Version: 1.14.0 Command: /Library/Frameworks/R.framework/Resources/bin/R CMD INSTALL awst StartedAt: 2025-01-30 15:18:47 -0500 (Thu, 30 Jan 2025) EndedAt: 2025-01-30 15:19:30 -0500 (Thu, 30 Jan 2025) EllapsedTime: 43.7 seconds RetCode: 0 Status: OK