Package: awst Version: 1.14.0 Command: /home/biocbuild/R/R/bin/R CMD build --keep-empty-dirs --no-resave-data awst StartedAt: 2025-02-03 21:43:30 -0000 (Mon, 03 Feb 2025) EndedAt: 2025-02-03 21:44:24 -0000 (Mon, 03 Feb 2025) EllapsedTime: 54.0 seconds RetCode: 0 Status: OK PackageFile: awst_1.14.0.tar.gz PackageFileSize: 417.2 KiB