Package: bacon Version: 1.34.0 Command: /Library/Frameworks/R.framework/Resources/bin/R CMD build --keep-empty-dirs --no-resave-data bacon StartedAt: 2025-02-03 17:09:34 -0500 (Mon, 03 Feb 2025) EndedAt: 2025-02-03 17:11:01 -0500 (Mon, 03 Feb 2025) EllapsedTime: 87.2 seconds RetCode: 0 Status: OK PackageFile: bacon_1.34.0.tar.gz PackageFileSize: 2.088 MiB