Package: bacon Version: 1.34.0 Command: rm -rf bacon.buildbin-libdir && mkdir bacon.buildbin-libdir && F:\biocbuild\bbs-3.20-bioc\R\bin\R.exe CMD INSTALL --build --library=bacon.buildbin-libdir bacon_1.34.0.tar.gz StartedAt: 2025-02-04 08:00:05 -0500 (Tue, 04 Feb 2025) EndedAt: 2025-02-04 08:00:27 -0500 (Tue, 04 Feb 2025) EllapsedTime: 22.5 seconds RetCode: 0 Status: OK PackageFile: bacon_1.34.0.zip PackageFileSize: 767.2 KiB