Package: bacon Version: 1.34.0 Command: chmod a+r bacon -R && F:\biocbuild\bbs-3.20-bioc\R\bin\R.exe CMD build --keep-empty-dirs --no-resave-data bacon StartedAt: 2025-02-03 17:35:32 -0500 (Mon, 03 Feb 2025) EndedAt: 2025-02-03 17:37:03 -0500 (Mon, 03 Feb 2025) EllapsedTime: 90.9 seconds RetCode: 0 Status: OK PackageFile: bacon_1.34.0.tar.gz PackageFileSize: 589.2 KiB