Package: bambu Version: 3.8.1 Maintainer: Ying Chen MaintainerEmail: chen_ying at gis.a-star.edu.sg git_url: https://git.bioconductor.org/packages/bambu git_branch: RELEASE_3_20 git_last_commit: 51294ad git_last_commit_date: 2025-01-31 03:19:56 -0500 (Fri, 31 Jan 2025)