Package: bambu Version: 3.8.1 Command: rm -rf bambu.buildbin-libdir && mkdir bambu.buildbin-libdir && /Users/biocbuild/BBS/utils/build-universal.sh bambu_3.8.1.tar.gz /Library/Frameworks/R.framework/Resources/bin/R bambu.buildbin-libdir StartedAt: 2025-02-05 14:52:09 -0500 (Wed, 05 Feb 2025) EndedAt: 2025-02-05 14:53:13 -0500 (Wed, 05 Feb 2025) EllapsedTime: 64.3 seconds RetCode: 0 Status: OK PackageFile: bambu_3.8.1.tgz PackageFileSize: 2.09 MiB