Package: bambu Version: 3.8.1 Command: /Library/Frameworks/R.framework/Resources/bin/R CMD check --install=check:bambu.install-out.txt --library=/Library/Frameworks/R.framework/Resources/library --no-vignettes --timings bambu_3.8.1.tar.gz StartedAt: 2025-02-04 11:51:47 -0500 (Tue, 04 Feb 2025) EndedAt: 2025-02-04 12:00:16 -0500 (Tue, 04 Feb 2025) EllapsedTime: 508.7 seconds RetCode: 0 Status: OK CheckDir: bambu.Rcheck Warnings: 0