Package: bambu Version: 3.8.1 Command: rm -rf bambu.buildbin-libdir && mkdir bambu.buildbin-libdir && /Users/biocbuild/BBS/utils/build-universal.sh bambu_3.8.1.tar.gz /Library/Frameworks/R.framework/Resources/bin/R bambu.buildbin-libdir StartedAt: 2025-02-04 12:29:26 -0500 (Tue, 04 Feb 2025) EndedAt: 2025-02-04 12:31:30 -0500 (Tue, 04 Feb 2025) EllapsedTime: 124.1 seconds RetCode: 0 Status: OK PackageFile: bambu_3.8.1.tgz PackageFileSize: 2.096 MiB