Package: bambu Version: 3.8.1 Command: /home/biocbuild/bbs-3.20-bioc/R/bin/R CMD INSTALL bambu StartedAt: 2025-02-03 15:32:56 -0500 (Mon, 03 Feb 2025) EndedAt: 2025-02-03 15:33:53 -0500 (Mon, 03 Feb 2025) EllapsedTime: 56.7 seconds RetCode: 0 Status: OK