Package: bambu Version: 3.8.1 Command: F:\biocbuild\bbs-3.20-bioc\R\bin\R.exe CMD check --no-multiarch --install=check:bambu.install-out.txt --library=F:\biocbuild\bbs-3.20-bioc\R\library --no-vignettes --timings bambu_3.8.1.tar.gz StartedAt: 2025-02-03 23:16:53 -0500 (Mon, 03 Feb 2025) EndedAt: 2025-02-03 23:26:26 -0500 (Mon, 03 Feb 2025) EllapsedTime: 573.3 seconds RetCode: 0 Status: OK CheckDir: bambu.Rcheck Warnings: 0