Package: bambu Version: 3.8.1 Command: /home/biocbuild/R/R/bin/R CMD build --keep-empty-dirs --no-resave-data bambu StartedAt: 2025-02-03 21:44:59 -0000 (Mon, 03 Feb 2025) EndedAt: 2025-02-03 22:25:00 -0000 (Mon, 03 Feb 2025) EllapsedTime: 2400.7 seconds RetCode: None Status: TIMEOUT PackageFile: None PackageFileSize: NA