Package: bandle Version: 1.10.0 Command: /Library/Frameworks/R.framework/Resources/bin/R CMD build --keep-empty-dirs --no-resave-data bandle StartedAt: 2025-02-10 19:12:45 -0500 (Mon, 10 Feb 2025) EndedAt: 2025-02-10 19:12:51 -0500 (Mon, 10 Feb 2025) EllapsedTime: 5.8 seconds RetCode: 1 Status: ERROR PackageFile: None PackageFileSize: NA