Package: bandle Version: 1.10.0 Command: /Library/Frameworks/R.framework/Resources/bin/R CMD INSTALL bandle StartedAt: 2025-02-03 17:37:57 -0500 (Mon, 03 Feb 2025) EndedAt: 2025-02-03 17:38:03 -0500 (Mon, 03 Feb 2025) EllapsedTime: 5.8 seconds RetCode: 1 Status: ERROR