Package: bandle Version: 1.10.0 Command: /Library/Frameworks/R.framework/Resources/bin/R CMD build --keep-empty-dirs --no-resave-data bandle StartedAt: 2025-02-10 17:04:05 -0500 (Mon, 10 Feb 2025) EndedAt: 2025-02-10 17:04:18 -0500 (Mon, 10 Feb 2025) EllapsedTime: 13.4 seconds RetCode: 1 Status: ERROR PackageFile: None PackageFileSize: NA