Package: bandle Version: 1.10.0 Command: /home/biocbuild/bbs-3.20-bioc/R/bin/R CMD build --keep-empty-dirs --no-resave-data --md5 bandle StartedAt: 2025-02-03 16:24:50 -0500 (Mon, 03 Feb 2025) EndedAt: 2025-02-03 16:24:57 -0500 (Mon, 03 Feb 2025) EllapsedTime: 7.0 seconds RetCode: 1 Status: ERROR PackageFile: None PackageFileSize: NA