Package: bandle Version: 1.10.0 Command: chmod a+r bandle -R && F:\biocbuild\bbs-3.20-bioc\R\bin\R.exe CMD build --keep-empty-dirs --no-resave-data bandle StartedAt: 2025-02-03 17:36:17 -0500 (Mon, 03 Feb 2025) EndedAt: 2025-02-03 17:37:04 -0500 (Mon, 03 Feb 2025) EllapsedTime: 47.1 seconds RetCode: 1 Status: ERROR PackageFile: None PackageFileSize: NA