Package: banocc Version: 1.30.0 Command: F:\biocbuild\bbs-3.20-bioc\R\bin\R.exe CMD check --no-multiarch --install=check:banocc.install-out.txt --library=F:\biocbuild\bbs-3.20-bioc\R\library --no-vignettes --timings banocc_1.30.0.tar.gz StartedAt: 2025-02-03 23:18:16 -0500 (Mon, 03 Feb 2025) EndedAt: 2025-02-03 23:20:43 -0500 (Mon, 03 Feb 2025) EllapsedTime: 146.5 seconds RetCode: 0 Status: OK CheckDir: banocc.Rcheck Warnings: 0