Package: barcodetrackR Version: 1.14.0 Command: rm -rf barcodetrackR.buildbin-libdir && mkdir barcodetrackR.buildbin-libdir && /Users/biocbuild/BBS/utils/build-universal.sh barcodetrackR_1.14.0.tar.gz /Library/Frameworks/R.framework/Resources/bin/R barcodetrackR.buildbin-libdir StartedAt: 2025-02-05 14:52:55 -0500 (Wed, 05 Feb 2025) EndedAt: 2025-02-05 14:53:28 -0500 (Wed, 05 Feb 2025) EllapsedTime: 32.6 seconds RetCode: 0 Status: OK PackageFile: barcodetrackR_1.14.0.tgz PackageFileSize: 3.747 MiB