Package: barcodetrackR Version: 1.14.0 Command: /Library/Frameworks/R.framework/Resources/bin/R CMD check --install=check:barcodetrackR.install-out.txt --library=/Library/Frameworks/R.framework/Resources/library --no-vignettes --timings barcodetrackR_1.14.0.tar.gz StartedAt: 2025-02-11 11:49:31 -0500 (Tue, 11 Feb 2025) EndedAt: 2025-02-11 11:53:12 -0500 (Tue, 11 Feb 2025) EllapsedTime: 221.2 seconds RetCode: 0 Status: OK CheckDir: barcodetrackR.Rcheck Warnings: 0