Package: barcodetrackR Version: 1.14.0 Command: chmod a+r barcodetrackR -R && F:\biocbuild\bbs-3.20-bioc\R\bin\R.exe CMD build --keep-empty-dirs --no-resave-data barcodetrackR StartedAt: 2025-02-03 17:36:48 -0500 (Mon, 03 Feb 2025) EndedAt: 2025-02-03 17:38:37 -0500 (Mon, 03 Feb 2025) EllapsedTime: 109.6 seconds RetCode: 0 Status: OK PackageFile: barcodetrackR_1.14.0.tar.gz PackageFileSize: 1.898 MiB