Package: barcodetrackR Version: 1.14.0 Command: /home/biocbuild/R/R/bin/R CMD INSTALL barcodetrackR StartedAt: 2025-02-10 20:45:11 -0000 (Mon, 10 Feb 2025) EndedAt: 2025-02-10 20:45:41 -0000 (Mon, 10 Feb 2025) EllapsedTime: 30.9 seconds RetCode: 0 Status: OK