Package: basilisk.utils Version: 1.18.0 Command: /Library/Frameworks/R.framework/Resources/bin/R CMD build --keep-empty-dirs --no-resave-data basilisk.utils StartedAt: 2025-02-03 17:12:48 -0500 (Mon, 03 Feb 2025) EndedAt: 2025-02-03 17:12:58 -0500 (Mon, 03 Feb 2025) EllapsedTime: 10.1 seconds RetCode: 0 Status: OK PackageFile: basilisk.utils_1.18.0.tar.gz PackageFileSize: 234.9 KiB