Package: basilisk.utils Version: 1.18.0 Command: /Library/Frameworks/R.framework/Resources/bin/R CMD INSTALL basilisk.utils StartedAt: 2025-02-03 15:17:02 -0500 (Mon, 03 Feb 2025) EndedAt: 2025-02-03 15:17:18 -0500 (Mon, 03 Feb 2025) EllapsedTime: 16.1 seconds RetCode: 0 Status: OK